Workbook
Name Likelihood: Sheet1!$B$1:$B$5
Name Maintenance1: Sheet1!$E$1:$E$4
Name Maintenance2: Sheet1!$H$1:$H$4
Name Measures1: Sheet1!$D$1:$D$4
Name Measures2: Sheet1!$G$1:$G$4
Name Select: Sheet1!$F$1
Name Severity: Sheet1!$A$1:$A$5

Sheet Event RA
A1: Risk Assessment
A2: Event: | D2: Bradford Autumn Regatta, 19th September 2026 | G2: Date: | I2: 46266
A3: Author: | D3: Competition Rowing Safety Advisor - Morris Cole | G3: Rev: | I3: version 1
A5: No: | B5: Hazard | C5: Reduce probability of a Hazard causing a Hazardous Event | E5: Hazardous Event | F5: Reduce the Severity of Harm | H5: Harm | I5: Severity (1-5) | J5: Probability (A-E) | K5: Level of Risk (L/M/S/I) | L5: Action Owners
C6: Barriers | D6: Action to maintain barriers | F6: Controls | G6: Action to maintain controls | L6: Event Committee | M6: CoRSA | N6: Umpires & Marshalls | O6: Control Commissions | P6: other
A7: Water
A8: 1 | B8: Boats afloat for practice | C8: Before going afloat, coaches and crews must have read the Safety plan which informs crews that boating for practice will not be permitted. Marshal responsible for calling crews to boat and outstage marshal prevent boating for practice. | D8: Prepare and provide safety plan and clearly communicate to entrants before the event that coaches and crews must read it. Marshals reminded practice is not to be permitted. | E8: Capsize or collision or sinking during a race | F8: - Bank Umpires and Marshalls equipped with radios back to Control will be stationed at the start and finish lines and on the bend giving them visibility of the whole course and will be briefed that they should turn back boats who have been inadvertently allowed to boat for practice. | G8: Steps taken before the competition to ensure that there are sufficient umpires and marshalls, that they are appropriately briefed and provided with tested radios. | H8: Injury / cold water immersion leading to mild hypothermia / illness due to swallowing polluted water | I8: 3 | J8: B | K8: =VLOOKUP($I8&$J8,Sheet1!$A$7:$B$31,2,FALSE()) -> Low | L8: X | M8: X | N8: X
A9: 2 | B9: Boats afloat for racing | C9: Bowloaders not permitted. Coaches and crews must have read the Safety plan before going afloat. They must ensure all coxed crews especially juniors have experienced coxes and that all athletes steering coxless boats are experienced. Safety plan and instructions to competitors advise crews that they MUST have permission from the outstage marshals both to boat AND to set off, and include instructions to coxes/steers on safe passage up to the start. | D9: Prepare and provide safety plan and instruct clubs that they should tell their coaches and crews they must read it before the event. | E9: Capsize or collision or sinking during a race | F9: Bank Umpires and Marshalls equipped with radios back to race control will be stationed at the start and finish lines and on the bend giving them visibility of the whole course so that the rescue launch can be summoned as required. | G9: Ensure in advance of the competition that there are sufficient umpires and marshals, that they are appropriately briefed and provided with tested radios. | H9: Injury / cold water immersion leading to mild hypothermia / illness due to swallowing polluted water. Damage to boats. | I9: 3 | J9: A | K9: =VLOOKUP($I9&$J9,Sheet1!$A$7:$B$31,2,FALSE()) -> Low | L9: X | M9: X | N9: X
A10: 2 | B10: Boats afloat for racing | C10: Outstage marshals to be in constant radio communication with start and mid stage 2 Umpires and check with them before any crew is given permission to launch that there is no race on the course. Competitor instructionsdetail route crews must take on the way to the start including for turning past the start line. | D10: Remind Umpires and Marshals at morning briefing | E10: Collision between a racing crew and a crew rowing up to the start | F10: A rescue launch manned by qualified drivers and first aiders is in attendance at all times, equipped with radios. | G10: Ensure in advance of the competition that there is sufficient launch driver cover. Check launch & equipment prior to use. Ensure launch has been professionally serviced. | H10: Injury / cold water immersion leading to mild hypothermia / illness due to swallowing polluted water. Damage to boats. | I10: 2 | J10: A | K10: =VLOOKUP($I10&$J10,Sheet1!$A$7:$B$31,2,FALSE()) -> Low | L10: X | M10: X | P10: X
A11: 2 | B11: Boats afloat for racing | F11: Coxes’ life jackets checked by Umpires prior to going afloat to race. | G11: Ensure that Umpires checking equipment have instructions and a checklist | I11: 2 | J11: B | K11: =VLOOKUP($I11&$J11,Sheet1!$A$7:$B$31,2,FALSE()) -> Low | L11: X | M11: X | P11: X
A12: 2 | B12: Boats afloat for racing | F12: Safety plan and instructions to competitors should advise crews of the risks and the need for competitors to avoid swallowing water should they capsize and to observe good hand hygiene at all times | G12: Send Safety plan to clubs and instruct them to ensure their coaches and crews read it.. Display safety plan. Welfare Officer to remind capsizees of showering protocol | I12: 2 | J12: A | K12: Low | L12: X | M12: X | P12: X
A13: 3 | B13: Racing | C13: In accordance with British Rowing Rules of Racing. | D13: Include this fact in information for competitors | E13: Collision between two racing crews during a race | F13: If a clash becomes serious and is likely to damage equipment or injure athletes, the umpire should stop the race. | G13: Ensure that Umpires are properly equipped and briefed | H13: Injury / cold water immersion leading to mild hypothermia / illness due to swallowing polluted water | I13: 3 | J13: C | K13: =VLOOKUP($I13&$J13,Sheet1!$A$7:$B$31,2,FALSE()) -> Moderate | L13: X | M13: X | N13: X | P13: X
A14: 3 | B14: Racing | C14: Bank Umpires and Marshalls equipped with radios back to control will be stationed at the start and finish lines and on the bend giving them visibility of the whole course. They will warn crews to move apart and if needed stop the race | D14: Remind Umpires at morning briefing and Marshals at start of each division | I14: 3 | J14: C | K14: =VLOOKUP($I14&$J14,Sheet1!$A$7:$B$31,2,FALSE()) -> Moderate | L14: X | M14: X | N14: X
A15: 4 | B15: Rock Ramp beyond the finish line | C15: Coaches and crews must have read the Safety plan before going afloat. Instruct crews to pull up immediately after the finish and not to go beyond the bunting rope. Experienced coxes required. Bowloaders will not be permitted at this regatta, communicate in competition poster and Safety Plan. | D15: Prepare and provide safety plan and clearly communicate to entrants before the event that coaches and crews must read it. | E15: Boat and crew washed over the rock ramp | F15: Emergency services must be phoned immediately on 999 giving location as What Three Words Code: START,THINK,GLANCE Race Committee Chair to decide if major incident should be declared and if racing needs to be suspended . | G15: One (of three) In-stage marshals to immediately inform Race Control next to in-stage to call 999 emergency services and to radio Race Committee Chair informing them of the incident. In-stage marshal being closest to rock ramp to stop anyone else attempting rescue. | H15: Injury / cold water immersion leading to mild hypothermia / illness due to swallowing polluted water. Damage to boats.Injury falling on rocks. | I15: 3 | J15: C | K15: =VLOOKUP($I15&$J15,Sheet1!$A$7:$B$31,2,FALSE()) -> Moderate | L15: X | M15: X | N15: X | O15: X | P15: X
A16: 4 | B16: Rock Ramp beyond the finish line | C16: Dedicated 'in stage' Marshal who's sole job is to clearly instruct finishing crews to hold-up in safe manner immediately after crossing finishing line | D16: Ensuring dedicated in-stage Marshal has a loud hailer to ensure their voice can be heard over the crowd | I16: 3 | J16: C | K16: =VLOOKUP($I16&$J16,Sheet1!$A$7:$B$31,2,FALSE()) -> Moderate | L16: X | M16: X | N16: X | O16: X
A17: Weather
A18: 5 | B18: Sudden bad weather such as high winds causing un-rowable and/or dangerous conditions | C18: Any umpire or other key race official will stop racing. They will instruct crews to take shelter or return back to the landing stage. | D18: Prepare and provide safety plan and inform clubs that their coaches and crews must read it before the event.. | E18: Boats capsize or are swamped | F18: A rescue launch manned by qualified drivers and first aiders is also in attendance at all times, equipped with radios. | G18: Ensure that there is sufficient safety cover. Check equipment prior to use. | H18: Injury / cold water immersion leading to mild hypothermia / illness due to swallowing polluted water. Damage to boats. | I18: 2 | J18: C | K18: =VLOOKUP($I18&$J18,Sheet1!$A$7:$B$31,2,FALSE()) -> Low | L18: X | M18: X | N18: X
A19: 6 | B19: Possibility of electrical storm | C19: Provisions laid down in the document “Developing an action plan for risk from lightning” available from British Rowing to be followed: Suspension and resumption of racing should follow the 30/30 rule: racing should stop when the flash-to-bang count is 30 seconds, and should not resume until 30 minutes after the last lightning. | D19: Ensure that Marshals, Umpires, Coaches and crews are adequately briefed. Any variation from 30/30 rule to be agreed unanimously by Event Chairman, Competition Rowing Safety Advisor, Starter. Race Committee Chairman and all members of Race Committee. . | E19: Rower, official, volunteer or spectator struck by lightning | F19: Provisions for first aid, medical treatment, and casualty evacuation to hospital. | G19: Ensure that first aiders, etc., are competent and properly equipped. First aider to determine if any injury is serious enough to require ambulance and if so calls 999 giving location What Three Words: START,THINK,GLANCE and informs Coordinating Umpire. | H19: Electrical burns, shock | I19: 3 | J19: C | K19: =VLOOKUP($I19&$J19,Sheet1!$A$7:$B$31,2,FALSE()) -> Moderate | L19: X | M19: X | N19: X | O19: X
A20: 6 | B20: Possibility of electrical storm | C20: All crews to leave the water immediately on instructions from Competition Rowing Safety Advisor or Race Committee Chairman using radios in safety boat. Transport to be available to move rowers from the bank to areas of safety. | D20: Ensure that Marshals, Umpires, Coaches and crews are adequately briefed. | I20: 5 | J20: B | K20: =VLOOKUP($I20&$J20,Sheet1!$A$7:$B$31,2,FALSE()) -> Substantial | L20: X
A21: 6 | B21: Possibility of electrical storm | C21: In event of suspension of racing use PA system to ask all competitors, officials and spectators to seek cover in clubhouse or a boathouse | I21: 5 | J21: A | K21: =VLOOKUP($I21&$J21,Sheet1!$A$7:$B$31,2,FALSE()) -> Moderate | L21: X | M21: X
A22: Other water users
A23: 7 | B23: Canoeists on the racing stretch | C23: Marshals to be vigilant for canoeists. Any joining the river will do so from the start end and be travelling in the direction of racing, likely at a much slower pace than the racing crews. Marshals will advise them not to join the course until a break in racing however if they ignore warnings, racing will be stopped until they pass. | D23: Ensure that start Marshals are properly equipped with loud hailer and briefed | E23: Collision | F23: A rescue launch manned by qualified drivers and first aiders is also in attendance at all times, equipped with radios. | G23: Include in briefing for Control Commission | H23: Injury / cold water immersion leading to mild hypothermia / illness due to swallowing polluted water. Damage to boats. | I23: 2 | J23: A | K23: =VLOOKUP($I23&$J23,Sheet1!$A$7:$B$31,2,FALSE()) -> Low | L23: X | N23: X
A24: 8 | B24: Fishermen | C24: Marshals to be vigilant for fishermen on the course and advise them to remove their lines from the water and when it will be safe to return. However if they ignore warnings, racing will be stopped until they leave. | D24: Organising committee to advise Saltaire Angling Association of the date of the BARC regatta | E24: Collision | F24: A rescue launch manned by qualified drivers and first aiders is also in attendance at all times, equipped with radios. | G24: Include in briefing for Control Commission | I24: 1 | J24: A | K24: =VLOOKUP($I24&$J24,Sheet1!$A$7:$B$31,2,FALSE()) -> Low | L24: X | N24: X
A25: Local Environment
A26: 9 | B26: Overhanging trees or branches in the water | C26: Course will be inspected ahead of the race and branches cut back/debris removed as required. If not possible to remove cancel event in good time. | E26: Collision with tree branch / capsize | F26: A rescue launch manned by qualified drivers and first aiders is in attendance at all times, equipped with radios. | H26: Injury / cold water immersion leading to mild hypothermia / illness due to swallowing polluted water | I26: 2 | J26: C | K26: =VLOOKUP($I26&$J26,Sheet1!$A$7:$B$31,2,FALSE()) -> Low | L26: X
A27: 10 | B27: Weed in the river bed | C27: Course will be inspected ahead of the racing and any dense weed will be removed as required. If not possible to remove cancel event in good time. | E27: Blades entangled in weed potentially leading to capsize | F27: A rescue launch manned by qualified drivers and first aiders is in attendance at all times, equipped with radios. | H27: Injury / cold water immersion leading to mild hypothermia / illness due to swallowing polluted water | I27: 2 | J27: D | K27: =VLOOKUP($I27&$J27,Sheet1!$A$7:$B$31,2,FALSE()) -> Moderate | L27: X
A28: 11 | B28: Low water level | C28: Inspect before event and decide to hold event or cancel event in good time. | E28: Difficulty boating and landing potentially resulting in capsize. Damage to boats when turning in shallow water at top of course | F28: Reduce racing frequency e.g. to one every 5 minutes instead of every 3 minutes to allow more time for boating and landing | G28: Include in race schedule / cancel some races as necessary | H28: Injury / cold water immersion leading to mild hypothermia / illness due to swallowing polluted water | I28: 1 | J28: A | K28: =VLOOKUP($I27&$J27,Sheet1!$A$7:$B$31,2,FALSE()) -> Moderate | L28: X
A29: Handling boats on land
A30: 12 | B30: Boats being moved in the presence of spectators, pedestrians and cyclists | C30: Cyclists, spectators and pedestrians are not permitted in the boating area.or close to landing stage. | D30: Include in briefing to officials and marshals | E30: Collision of boat or cyclist with pedestrian or spectator. | F30: Marshal contacts Race Control, who summons first aiders via PA announcement. | G30: Ensure that first aiders, etc., are competent and properly equipped. Check that radios work properly and that users are competent to use them. | H30: Physical injury | I30: 3 | J30: C | K30: =VLOOKUP($I30&$J30,Sheet1!$A$7:$B$31,2,FALSE()) -> Moderate | L30: X
A31: Competitor Health
A32: 13 | B32: Major incident, e.g. athlete collapses in a boat | E32: Collapse of athlete on landing stages or in boat during a race (e.g., heart attack, asthma attack or serious fall) | F32: Umpire contacts Race Control (RC), who alerts Race Committee Chair, Medic / First Aider, Safety Advisor by radio. A rescue launch manned by qualified drivers and first aiders is in attendance at all times equipped with radios. Race Committee Chair decides whether major incident procedure should be invoked, emergency services called and if racing should be suspended. | G32: Ensure that Umpires are properly briefed and equipped and that there are competent, well-equipped first aiders, in attendance. | H32: Serious health implications for competitor | I32: 4 | J32: B | K32: =VLOOKUP($I32&$J32,Sheet1!$A$7:$B$31,2,FALSE()) -> Moderate | L32: X
A33: Other
A34: 14 | B34: Rowers and coxes with long hair not tied up | C34: Competitor instructions to emphasise long hair must be tied up in a bun or top knot. | D34: Outstage marshal to enforce rule. Spare hair ties to be available at race control desk. Brief umpires to disqualify non-compliant competitors | E34: Hair gets trapped in boat or rigger in event of capsize | H34: Inability to extricate from boat with prolonged submersion in extreme case resulting in drowning | I34: 3 | J34: B | K34: =VLOOKUP($I34&$J34,Sheet1!$A$7:$B$31,2,FALSE()) -> Low | M34: X | O34: X | P34: X
A35: 15 | B35: Use of clubhouse balcony | C35: Notices displayed on the balcony advising that glasses must not be placed on the shelf and that people should not lean over the balcony | D35: Club volunteers involved with catering to oversee compliance | E35: Drinking glass dropped from balcony onto spectator | F35: Provisions for first aid, medical treatment, and casualty evacuation to hospital. | G35: Ensure that first aiders, etc., are competent and properly equipped. Check that radios work properly and that users are competent to use them. | H35: Minor injury and wetting | I35: 2 | J35: C | K35: =VLOOKUP($I35&$J35,Sheet1!$A$7:$B$31,2,FALSE()) -> Low | L35: X
A36: 16 | B36: Use of towpath by cyclists and pedestrians | C36: Notice on towpath upstream of start advising of the event and encouraging cyclists to use alternative route..Cycling is not permitted in the spectators’ area. | D36: Ensure that Marshalls, coaches and crews are adequately briefed | E36: Collision involving cyclists and pedestrians on the towpath | F36: Provisions for first aid, medical treatment, and casualty evacuation to hospital. | G36: Ensure that first aiders, etc., are competent and properly equipped. Check that radios work properly and that users are competent to use them. | H36: Minor injury to spectators and cyclists | I36: 2 | J36: B | K36: =VLOOKUP($I36&$J36,Sheet1!$A$7:$B$31,2,FALSE()) -> Low | L36: X

Sheet Matrix
D8: People | E8: Assets | F8: Probability
F9: A | G9: B | H9: C | I9: D | J9: E
F10: Highly improbable (has not been known to happen in rowing) | G10: Improbable (has been known to happen in rowing) | H10: Possible (could happen to about 1% of the club's active members per decade) | I10: Probable (could happen to about 1% of the club's active members per year) | J10: Highly probable (could happen to about 10% of the club's active members per year)
B11: Severity | C11: 1 | D11: Slight injury or health effect (Requires little or no treatment; no need to take time off rowing or training) | E11: Minor damage to equipment (<£100) | F11: Low | G11: Low | H11: Low | I11: Low | J11: Moderate
C12: 2 | D12: Minor injury or health effect (Requires First Aid or rest; potentially a few days off rowing or training) | E12: Damage repair costs low (£500) | F12: Low | G12: Low | H12: Low | I12: Moderate | J12: Substantial
C13: 3 | D13: Moderate injury or health effect (Requires treatment beyond simple First Aid; potentially a week or so off rowing or training) | E13: High damage repair costs (>£1000) | F13: Low | G13: Low | H13: Moderate | I13: Substantial | J13: Intolerable
C14: 4 | D14: Major injury or health effect (Requires hospital treatment for more than one day; potentially a few weeks off rowing or training) | E14: Very high damage repair costs (loss of boat, 3rd party damage) | F14: Low | G14: Moderate | H14: Substantial | I14: Intolerable | J14: Intolerable
C15: 5 | D15: Fatality or Life Threatening Injury or Health Effect (could end a rowing career or cause hospitalisation for a few months) | E15: Major damage & major costs (loss of several boats, high 3rd party damage) | F15: Moderate | G15: Substantial | H15: Intolerable | I15: Intolerable | J15: Intolerable
D17: Low | E17: An acceptable level of risk. No additional barriers/controls are required. Start or continue the activity but check that the current barriers/controls remain effective.
D18: Moderate | E18: An acceptable level of risk that should be reviewed. Implement additional barriers/controls to reduce the risk if the opportunity arises. Start or continue the activity with care.
D19: Substantial | E19: An unacceptable level of risk. Improve the barriers/controls and allocate resources to reduce the risk. Do not start or continue the activity until the risk has been reduced.
D20: Intolerable | E20: An unacceptable level of risk. Improve the barriers/controls and allocate resources to reduce the risk. Do not start or continue the activity until the risk has been reduced. Prohibit the activity if it is not possible to reduce the risk.

Sheet Sheet1
A1: 1 | B1: A | D1: Phone to summon assistance | E1: Map showing navigation rules in boathouse | F1: X | G1: Launch | H1: Ensure that rowers are always accompanied by the coaching launch
A2: 2 | B2: B | D2: Navigation rules | E2: Enforce procedure to carry mobile phone in waterproof carrier | G2: Capsize drill | H2: Ensure capsize drills are run at the start of each season as a minimum. Keep a record
A3: 3 | B3: C | D3: Cox, bow steer competence | E3: Club registration of coxes and bow steers competence | G3: Steering competence | H3: Ensure rowers become approved steers by passing the steering assessment.
A4: 4 | B4: D | D4: Club rescue launch | E4: Ensure club rescue launch and crew are on the water or available and ready to boat at all times | G4: Coaching | H4: Ensure that rowers are coached in the correct handling of less stable boats
A5: 5 | B5: E
A7: 1A | B7: Low
A8: 1B | B8: Low
A9: 1C | B9: Low
A10: 1D | B10: Low
A11: 1E | B11: Moderate
A12: 2A | B12: Low
A13: 2B | B13: Low
A14: 2C | B14: Low
A15: 2D | B15: Moderate
A16: 2E | B16: Substantial
A17: 3A | B17: Low
A18: 3B | B18: Low
... A31: 5E | B31: Intolerable

Sheet Event Responsibilities
A1: Event Committee | B1: Competition Rowing Safety Advisor | C1: Umpires & Marshalls | D1: Control Commissions | E1: other
A2: Prepare and provide safety briefing and inform coaches and crews that they must read it. | D2: Ensure that Umpires checking equipment have instructions and a checklist
A3: Send Safety plans to clubs and instruct them to inform their crews. Display safety plan.
A4: Ensure that there is sufficient safety cover. | B4: Check safety equipment prior to use.
A5: Ensure that there are sufficient Umpire's launches. | B5: Ensure that launch drivers are appropriately briefed.
A6: Ensure that first aiders, etc., are competent and properly equipped.
A7: Ensure that Marshals, Umpires, Coaches and crews are adequately briefed on response to lightning
A8: Any variation from 30/30 rule to be agreed unanimously by Event Chairman, Safety Adviser, Starter. Race Committee Chairman and all members of Race Committee.
A9: Ensure that Umpires are properly equipped and briefed
A10: Ensure that Warning notices are displayed on riverside path above and below regatta course ,
A11: Ensure that Umpires and Race Control are properly equipped and briefed
A12: Ensure that Marshalls are properly equipped (throw lines, etc.) and adequately briefed.
A13: Ensure that communications are effective.
A14: Ensure that caterers are adequately briefed (on plastic "glasses")
